BEGIN:VCALENDAR
VERSION:2.0
PRODID:-//Edmonton Horticultural Society - ECPv6.15.20//NONSGML v1.0//EN
CALSCALE:GREGORIAN
METHOD:PUBLISH
X-ORIGINAL-URL:https://edmontonhort.com
X-WR-CALDESC:Events for Edmonton Horticultural Society
REFRESH-INTERVAL;VALUE=DURATION:PT1H
X-Robots-Tag:noindex
X-PUBLISHED-TTL:PT1H
BEGIN:VTIMEZONE
TZID:America/Edmonton
BEGIN:DAYLIGHT
TZOFFSETFROM:-0700
TZOFFSETTO:-0600
TZNAME:MDT
DTSTART:20250309T090000
END:DAYLIGHT
BEGIN:STANDARD
TZOFFSETFROM:-0600
TZOFFSETTO:-0700
TZNAME:MST
DTSTART:20251102T080000
END:STANDARD
BEGIN:DAYLIGHT
TZOFFSETFROM:-0700
TZOFFSETTO:-0600
TZNAME:MDT
DTSTART:20260308T090000
END:DAYLIGHT
BEGIN:STANDARD
TZOFFSETFROM:-0600
TZOFFSETTO:-0700
TZNAME:MST
DTSTART:20261101T080000
END:STANDARD
BEGIN:DAYLIGHT
TZOFFSETFROM:-0700
TZOFFSETTO:-0600
TZNAME:MDT
DTSTART:20270314T090000
END:DAYLIGHT
BEGIN:STANDARD
TZOFFSETFROM:-0600
TZOFFSETTO:-0700
TZNAME:MST
DTSTART:20271107T080000
END:STANDARD
END:VTIMEZONE
BEGIN:VEVENT
DTSTART;TZID=America/Edmonton:20260426T140000
DTEND;TZID=America/Edmonton:20260426T160000
DTSTAMP:20260421T100751
CREATED:20260419T032640Z
LAST-MODIFIED:20260419T033556Z
UID:10000977-1777212000-1777219200@edmontonhort.com
SUMMARY:Pegg Garden Artist in Residence & Annual Meeting
DESCRIPTION:At the George Pegg Botanic Garden we are delighted to have an Artist in Residence for the 2026 season! Meet artist Lisa Matthias\, see a presentation of her work\, and learn about the creative research she will carry out at Pegg Garden over the summer. Enjoy coffee and sweets\, followed by our AGM\, with highlights from 2025 and plans for 2026. Find out how you can help us preserve George Pegg’s contributions to Alberta’s botanical and historical heritage. Purchase or renew your membership for $10.00. Everyone is welcome to attend! Follow us on Facebook and Instagram. Please note\, we are meeting in Onoway\, AB. Our first event for the summer at Pegg Garden is Sunday\, May 31.
URL:https://edmontonhort.com/event/pegg-garden-artist-in-residence-annual-meeting/
LOCATION:Onoway Heritage Centre\, 4708- Lac Ste. Anne Trail\, Onoway\, Alberta\, T0E 1V0\, Canada
CATEGORIES:Community Event
ATTACH;FMTTYPE=image/jpeg:https://edmontonhort.com/wp-content/uploads/George-Pegg-Garden.jpg
ORGANIZER;CN="George Pegg Botanic Garden":MAILTO:PeggBotanicGarden@gmail.com
END:VEVENT
END:VCALENDAR