BEGIN:VCALENDAR
VERSION:2.0
PRODID:-//Edmonton Horticultural Society - ECPv6.15.20//NONSGML v1.0//EN
CALSCALE:GREGORIAN
METHOD:PUBLISH
X-WR-CALNAME:Edmonton Horticultural Society
X-ORIGINAL-URL:https://edmontonhort.com
X-WR-CALDESC:Events for Edmonton Horticultural Society
REFRESH-INTERVAL;VALUE=DURATION:PT1H
X-Robots-Tag:noindex
X-PUBLISHED-TTL:PT1H
BEGIN:VTIMEZONE
TZID:America/Edmonton
BEGIN:DAYLIGHT
TZOFFSETFROM:-0700
TZOFFSETTO:-0600
TZNAME:MDT
DTSTART:20250309T090000
END:DAYLIGHT
BEGIN:STANDARD
TZOFFSETFROM:-0600
TZOFFSETTO:-0700
TZNAME:MST
DTSTART:20251102T080000
END:STANDARD
BEGIN:DAYLIGHT
TZOFFSETFROM:-0700
TZOFFSETTO:-0600
TZNAME:MDT
DTSTART:20260308T090000
END:DAYLIGHT
BEGIN:STANDARD
TZOFFSETFROM:-0600
TZOFFSETTO:-0700
TZNAME:MST
DTSTART:20261101T080000
END:STANDARD
BEGIN:DAYLIGHT
TZOFFSETFROM:-0700
TZOFFSETTO:-0600
TZNAME:MDT
DTSTART:20270314T090000
END:DAYLIGHT
BEGIN:STANDARD
TZOFFSETFROM:-0600
TZOFFSETTO:-0700
TZNAME:MST
DTSTART:20271107T080000
END:STANDARD
END:VTIMEZONE
BEGIN:VEVENT
DTSTART;TZID=America/Edmonton:20260411T110000
DTEND;TZID=America/Edmonton:20260411T150000
DTSTAMP:20260423T143036
CREATED:20260401T221126Z
LAST-MODIFIED:20260401T221126Z
UID:10000975-1775905200-1775919600@edmontonhort.com
SUMMARY:2026 Scion Exchange
DESCRIPTION:Free admission event hosted by the DBG Fruit Growers Group for those looking to learn more about hardy fruit varieties and purchase/exchange scionwood for grafting with this spring.  \nGrafting demos and presentation \nSee Fruit Growers website for more information.
URL:https://edmontonhort.com/event/2026-scion-exchange/
LOCATION:L Y Cairns School\, 10510 45 Ave NW\, Edmonton\, AB\, T6H 0A1\, Canada
CATEGORIES:Community Event,Events
ATTACH;FMTTYPE=image/jpeg:https://edmontonhort.com/wp-content/uploads/20230415-101729.jpg
END:VEVENT
END:VCALENDAR